View In:
ArcGIS JavaScript
ArcGIS Online Map Viewer
ArcGIS Earth
ArcMap
View Footprint In:
ArcGIS Online Map Viewer
Service Description: Modèle numérique de terrain sous forme de grille issu de l'acquisition LIDAR aéroportée des 20 et 21 octobre 2018 avec une densité d'acquisition de 12 pts/m². La résolution spatiale est de 50 cm. La classe de précision altimétrique est de 10 cm. Des lignes de rupture de pentes ont été intégrées à la construction de la grille raster. Des valeurs moyennes de hauteurs de marée ont été imposées aux surfaces en eaux des zones marines et des bassins portuaires.
Name: fonds/MNT2018_512000_250_AGPRO34
Description: Modèle numérique de terrain sous forme de grille issu de l'acquisition LIDAR aéroportée des 20 et 21 octobre 2018 avec une densité d'acquisition de 12 pts/m². La résolution spatiale est de 50 cm. La classe de précision altimétrique est de 10 cm. Des lignes de rupture de pentes ont été intégrées à la construction de la grille raster. Des valeurs moyennes de hauteurs de marée ont été imposées aux surfaces en eaux des zones marines et des bassins portuaires.
Single Fused Map Cache: true
Tile Info:
- Height: 512
- Width: 512
- DPI: 96
-
Levels of Detail: 12
- Format: LERC
- Compression Quality: 0.0
- LERC Error: 0.05
- Origin: X: -3.43564E7
Y: 5.06182E7
- Spatial Reference: 3950
(3950)
LatestVCSWkid(0)
Storage Info:
- Storage Format: esriMapCacheStorageModeCompactV2
- Packet Size: 128
Extent:
XMin: 1487000.0
YMin: 9138000.0
XMax: 1518000.0
YMax: 9174000.0
Spatial Reference: 3950
(3950)
LatestVCSWkid(0)
Initial Extent:
XMin: 1487000.0
YMin: 9138000.0
XMax: 1518000.0
YMax: 9174000.0
Spatial Reference: 3950
(3950)
LatestVCSWkid(0)
Full Extent:
XMin: 1487000.0
YMin: 9138000.0
XMax: 1518000.0
YMax: 9174000.0
Spatial Reference: 3950
(3950)
LatestVCSWkid(0)
Pixel Size X: 0.5
Pixel Size Y: 0.5
Band Count: 1
Pixel Type: F32
RasterFunction Infos: {"rasterFunctionInfos": [{
"name": "None",
"description": "",
"help": ""
}]}
Mensuration Capabilities: Basic
Has Histograms: true
Has Colormap: false
Has Multi Dimensions : false
Rendering Rule:
Min Scale: 512000
Max Scale: 250
Min LOD: 0
Max LOD: 11
Copyright Text: Propriété exclusive de la Communauté Urbaine Le Havre Seine Métropole
Service Data Type: esriImageServiceDataTypeGeneric
Min Values: -8.810879707336426
Max Values: 141.41439819335938
Mean Values: 63.15325378461432
Standard Deviation Values: 49.74484972277023
Object ID Field:
Fields:
None
Default Mosaic Method: Center
Allowed Mosaic Methods:
SortField:
SortValue: null
Mosaic Operator: First
Default Compression Quality: 75
Default Resampling Method: Bilinear
Max Record Count: null
Max Image Height: 4100
Max Image Width: 15000
Max Download Image Count: null
Max Mosaic Image Count: null
Allow Raster Function: true
Allow Copy: true
Allow Analysis: true
Allow Compute TiePoints: false
Supports Statistics: false
Supports Advanced Queries: false
Use StandardizedQueries: true
Raster Type Infos:
Name: Raster Dataset
Description: Supports all ArcGIS Raster Datasets
Help:
Has Raster Attribute Table: false
Edit Fields Info: null
Ownership Based AccessControl For Rasters: null
Child Resources:
Info
Histograms
Statistics
Key Properties
Legend
Raster Function Infos
Supported Operations:
Export Image
Identify
Measure
Compute Histograms
Compute Statistics Histograms
Get Samples
Compute Class Statistics
Query Boundary
Compute Pixel Location
Compute Angles
Validate
Project