{ "currentVersion": 10.91, "serviceDescription": "
Modèle numérique de terrain sous forme de grille issu de l'acquisition LIDAR aéroportée des 20 et 21 octobre 2018 avec une densité d'acquisition de 12 pts/m². <\/SPAN>L<\/SPAN>a résolution spatiale est de 50 cm. La classe de précision altimétrique est de 10 cm. <\/SPAN>D<\/SPAN>es lignes de rupture de pentes ont été intégrées à la construction de la grille raster. Des valeurs moyennes de hauteurs de marée ont été imposées aux surfaces en eaux des zones marines et des bassins portuaires.<\/SPAN><\/P><\/DIV><\/DIV><\/DIV>",
"name": "fonds/MNT2018_512000_250_AGPRO34",
"description": " Modèle numérique de terrain sous forme de grille issu de l'acquisition LIDAR aéroportée des 20 et 21 octobre 2018 avec une densité d'acquisition de 12 pts/m². <\/SPAN>L<\/SPAN>a résolution spatiale est de 50 cm. La classe de précision altimétrique est de 10 cm. <\/SPAN>D<\/SPAN>es lignes de rupture de pentes ont été intégrées à la construction de la grille raster. Des valeurs moyennes de hauteurs de marée ont été imposées aux surfaces en eaux des zones marines et des bassins portuaires.<\/SPAN><\/P><\/DIV><\/DIV><\/DIV>",
"extent": {
"xmin": 1487000,
"ymin": 9138000,
"xmax": 1518000,
"ymax": 9174000,
"spatialReference": {
"wkid": 3950,
"latestWkid": 3950
}
},
"initialExtent": {
"xmin": 1487000,
"ymin": 9138000,
"xmax": 1518000,
"ymax": 9174000,
"spatialReference": {
"wkid": 3950,
"latestWkid": 3950
}
},
"fullExtent": {
"xmin": 1487000,
"ymin": 9138000,
"xmax": 1518000,
"ymax": 9174000,
"spatialReference": {
"wkid": 3950,
"latestWkid": 3950
}
},
"hasMultidimensions": false,
"pixelSizeX": 0.5,
"pixelSizeY": 0.5,
"datasetFormat": "FGDBR",
"uncompressedSize": 17856000000,
"blockWidth": 128,
"blockHeight": 128,
"compressionType": "LZ77",
"bandNames": [
"Band_1"
],
"allowCopy": true,
"allowAnalysis": true,
"bandCount": 1,
"pixelType": "F32",
"minPixelSize": 0.06614596562526459,
"maxPixelSize": 135.46693760054188,
"copyrightText": "Propriété exclusive de la Communauté Urbaine Le Havre Seine Métropole",
"serviceDataType": "esriImageServiceDataTypeGeneric",
"serviceSourceType": "esriImageServiceSourceTypeDataset",
"minValues": [
-8.810879707336426
],
"maxValues": [
141.41439819335938
],
"meanValues": [
63.15325378461432
],
"stdvValues": [
49.74484972277023
],
"objectIdField": "",
"fields": [],
"capabilities": "Image,Metadata,Mensuration",
"defaultMosaicMethod": "Center",
"allowedMosaicMethods": "",
"sortField": "",
"sortValue": null,
"sortAscending": true,
"mosaicOperator": "First",
"defaultCompressionQuality": 75,
"defaultResamplingMethod": "Bilinear",
"maxImageHeight": 4100,
"maxImageWidth": 15000,
"singleFusedMapCache": true,
"tileInfo": {
"rows": 512,
"cols": 512,
"dpi": 96,
"format": "LERC",
"compressionQuality": 0,
"lercError": 0.05,
"origin": {
"x": -34356400,
"y": 50618200
},
"spatialReference": {
"wkid": 3950,
"latestWkid": 3950
},
"lods": [
{
"level": 0,
"resolution": 135.46693760054188,
"scale": 512000
},
{
"level": 1,
"resolution": 67.73346880027094,
"scale": 256000
},
{
"level": 2,
"resolution": 33.86673440013547,
"scale": 128000
},
{
"level": 3,
"resolution": 16.933367200067735,
"scale": 64000
},
{
"level": 4,
"resolution": 8.466683600033868,
"scale": 32000
},
{
"level": 5,
"resolution": 4.233341800016934,
"scale": 16000
},
{
"level": 6,
"resolution": 2.116670900008467,
"scale": 8000
},
{
"level": 7,
"resolution": 1.0583354500042335,
"scale": 4000
},
{
"level": 8,
"resolution": 0.5291677250021167,
"scale": 2000
},
{
"level": 9,
"resolution": 0.26458386250105836,
"scale": 1000
},
{
"level": 10,
"resolution": 0.13229193125052918,
"scale": 500
},
{
"level": 11,
"resolution": 0.06614596562526459,
"scale": 250
}
]
},
"storageInfo": {
"storageFormat": "esriMapCacheStorageModeCompactV2",
"packetSize": 128
},
"cacheType": "Elevation",
"allowRasterFunction": true,
"rasterFunctionInfos": [
{
"name": "None",
"description": "",
"help": ""
}
],
"rasterTypeInfos": [
{
"name": "Raster Dataset",
"description": "Supports all ArcGIS Raster Datasets",
"help": ""
}
],
"mensurationCapabilities": "Basic",
"hasHistograms": true,
"hasColormap": false,
"hasRasterAttributeTable": false,
"minScale": 512000,
"maxScale": 250,
"minLOD": 0,
"maxLOD": 11,
"exportTilesAllowed": false,
"supportsStatistics": false,
"supportsAdvancedQueries": false,
"editFieldsInfo": null,
"ownershipBasedAccessControlForRasters": null,
"allowComputeTiePoints": false,
"useStandardizedQueries": true,
"advancedQueryCapabilities": {
"useStandardizedQueries": true,
"supportsStatistics": false,
"supportsOrderBy": false,
"supportsDistinct": false,
"supportsPagination": false
},
"spatialReference": {
"wkid": 3950,
"latestWkid": 3950
}
}