View In:
ArcGIS JavaScript
ArcGIS Online Map Viewer
ArcGIS Earth
ArcMap
View Footprint In:
ArcGIS Online Map Viewer
Service Description: fonds/MNE2022_CC50_IGN69
Name: fonds/MNE2022_CC50_IGN69
Description:
Single Fused Map Cache: true
Tile Info:
- Height: 512
- Width: 512
- DPI: 96
-
Levels of Detail: 12
- Format: LERC
- Compression Quality: 0.0
- LERC Error: 0.05
- Origin: X: -3.43564E7
Y: 5.06182E7
- Spatial Reference: 3950
(3950)
LatestVCSWkid(0)
Storage Info:
- Storage Format: esriMapCacheStorageModeCompactV2
- Packet Size: 128
Extent:
XMin: 1487000.0
YMin: 9137000.0
XMax: 1518000.0
YMax: 9174000.0
Spatial Reference: 3950
(3950)
VCSWkid(5720)
LatestVCSWkid(5720)
Initial Extent:
XMin: 1487000.0
YMin: 9137000.0
XMax: 1518000.0
YMax: 9174000.0
Spatial Reference: 3950
(3950)
VCSWkid(5720)
LatestVCSWkid(5720)
Full Extent:
XMin: 1487000.0
YMin: 9137000.0
XMax: 1518000.0
YMax: 9174000.0
Spatial Reference: 3950
(3950)
VCSWkid(5720)
LatestVCSWkid(5720)
Pixel Size X: 0.5
Pixel Size Y: 0.5
Band Count: 1
Pixel Type: F32
RasterFunction Infos: {"rasterFunctionInfos": [{
"name": "None",
"description": "",
"help": ""
}]}
Mensuration Capabilities: Basic
Has Histograms: true
Has Colormap: false
Has Multi Dimensions : false
Rendering Rule:
Min Scale: 512000
Max Scale: 250
Copyright Text:
Service Data Type: esriImageServiceDataTypeGeneric
Min Values: -42.520999908447266
Max Values: 266.82000732421875
Mean Values: 61.563989257325666
Standard Deviation Values: 50.90469836191714
Object ID Field:
Fields:
None
Default Mosaic Method: Center
Allowed Mosaic Methods:
SortField:
SortValue: null
Mosaic Operator: First
Default Compression Quality: 75
Default Resampling Method: Bilinear
Max Record Count: null
Max Image Height: 4100
Max Image Width: 15000
Max Download Image Count: null
Max Mosaic Image Count: null
Allow Raster Function: true
Allow Copy: true
Allow Analysis: true
Allow Compute TiePoints: false
Supports Statistics: false
Supports Advanced Queries: false
Use StandardizedQueries: true
Raster Type Infos:
Name: Raster Dataset
Description: Supports all ArcGIS Raster Datasets
Help:
Has Raster Attribute Table: false
Edit Fields Info: null
Ownership Based AccessControl For Rasters: null
Child Resources:
Info
Histograms
Statistics
Key Properties
Legend
Raster Function Infos
Supported Operations:
Export Image
Identify
Measure
Compute Histograms
Compute Statistics Histograms
Get Samples
Compute Class Statistics
Query Boundary
Compute Pixel Location
Compute Angles
Validate
Project