{
 "currentVersion": 10.91,
 "serviceDescription": "Prise de vue aérienne couleur orthorectifiée à 5 cm de résolution acquise les 5, 6 et 12 aout, les 1, 2, et 17 septembre 2018 et 13 mai 2019 (bandes côtières).\nAuteur \n",
 "mapName": "Couches",
 "description": "",
 "copyrightText": "Propriété exclusive de la Communauté Urbaine Le Havre Seine Métropole",
 "supportsDynamicLayers": true,
 "layers": [
  {
   "id": 0,
   "name": "ORTHO2018",
   "parentLayerId": -1,
   "defaultVisibility": true,
   "subLayerIds": null,
   "minScale": 0,
   "maxScale": 0,
   "type": "Raster Layer"
  }
 ],
 "tables": [],
 "spatialReference": {
  "wkid": 3950,
  "latestWkid": 3950
 },
 "singleFusedMapCache": true,
 "tileInfo": {
  "rows": 512,
  "cols": 512,
  "dpi": 96,
  "format": "PNG24",
  "compressionQuality": 0,
  "origin": {
   "x": -34356400,
   "y": 50618200
  },
  "spatialReference": {
   "wkid": 3950,
   "latestWkid": 3950
  },
  "lods": [
   {
    "level": 0,
    "resolution": 135.46693760054188,
    "scale": 512000
   },
   {
    "level": 1,
    "resolution": 67.73346880027094,
    "scale": 256000
   },
   {
    "level": 2,
    "resolution": 33.86673440013547,
    "scale": 128000
   },
   {
    "level": 3,
    "resolution": 16.933367200067735,
    "scale": 64000
   },
   {
    "level": 4,
    "resolution": 8.466683600033868,
    "scale": 32000
   },
   {
    "level": 5,
    "resolution": 4.233341800016934,
    "scale": 16000
   },
   {
    "level": 6,
    "resolution": 2.116670900008467,
    "scale": 8000
   },
   {
    "level": 7,
    "resolution": 1.0583354500042335,
    "scale": 4000
   },
   {
    "level": 8,
    "resolution": 0.5291677250021167,
    "scale": 2000
   },
   {
    "level": 9,
    "resolution": 0.26458386250105836,
    "scale": 1000
   },
   {
    "level": 10,
    "resolution": 0.13229193125052918,
    "scale": 500
   },
   {
    "level": 11,
    "resolution": 0.06614596562526459,
    "scale": 250
   }
  ]
 },
 "initialExtent": {
  "xmin": 1478836.6666666674,
  "ymin": 9131647.777777774,
  "xmax": 1554958.8888888895,
  "ymax": 9180352.222222218,
  "spatialReference": {
   "wkid": 3950,
   "latestWkid": 3950
  }
 },
 "fullExtent": {
  "xmin": 1487000,
  "ymin": 9138000,
  "xmax": 1518000,
  "ymax": 9174000,
  "spatialReference": {
   "wkid": 3950,
   "latestWkid": 3950
  }
 },
 "minScale": 512000,
 "maxScale": 250,
 "units": "esriMeters",
 "supportedImageFormatTypes": "PNG32,PNG24,PNG,JPG,DIB,TIFF,EMF,PS,PDF,GIF,SVG,SVGZ,BMP",
 "documentInfo": {
  "Title": "Orthophotographie 2018",
  "Author": "Communauté Urbaine Le Havre Seine Métropole",
  "Comments": "Prise de vue aérienne couleur orthorectifiée à 5 cm de résolution acquise les 5, 6 et 12 aout, les 1, 2, et 17 septembre 2018 et 13 mai 2019 (bandes côtières).\nAuteur \n",
  "Subject": "Prise de vue aérienne couleur orthorectifiée à 5 cm de résolution acquise les 5, 6 et 12 aout, les 1, 2, et 17 septembre 2018 et 13 mai 2019 (bandes côtières).",
  "Category": "",
  "AntialiasingMode": "None",
  "TextAntialiasingMode": "Force",
  "Keywords": "photo,prise de vue,cliché,ortho,raster,image,orthophotoplan,prise de vue aérienne"
 },
 "capabilities": "Map,Query,Data",
 "supportedQueryFormats": "JSON, geoJSON",
 "exportTilesAllowed": false,
 "referenceScale": 0,
 "supportsDatumTransformation": true,
 "maxRecordCount": 1000,
 "maxImageHeight": 4096,
 "maxImageWidth": 4096,
 "supportedExtensions": "WMSServer",
 "resampling": false,
 "serviceItemId": "1ac634d414504c589e1b33cbcc1eb6c7"
}
