{
 "currentVersion": 10.91,
 "serviceDescription": "Vue aérienne 2015",
 "mapName": "Couches",
 "description": "",
 "copyrightText": "Produit par IGN-F avec le soutien de l\u2019UE et la Région Normandie",
 "supportsDynamicLayers": true,
 "layers": [
  {
   "id": 0,
   "name": "Vue aérienne 2015 HR",
   "parentLayerId": -1,
   "defaultVisibility": true,
   "subLayerIds": null,
   "minScale": 0,
   "maxScale": 0,
   "type": "Raster Layer"
  }
 ],
 "tables": [],
 "spatialReference": {
  "wkid": 3950,
  "latestWkid": 3950
 },
 "singleFusedMapCache": true,
 "tileInfo": {
  "rows": 512,
  "cols": 512,
  "dpi": 96,
  "format": "PNG24",
  "compressionQuality": 0,
  "origin": {
   "x": -34356400,
   "y": 50618200
  },
  "spatialReference": {
   "wkid": 3950,
   "latestWkid": 3950
  },
  "lods": [
   {
    "level": 0,
    "resolution": 135.46693760054188,
    "scale": 512000
   },
   {
    "level": 1,
    "resolution": 67.73346880027094,
    "scale": 256000
   },
   {
    "level": 2,
    "resolution": 33.86673440013547,
    "scale": 128000
   },
   {
    "level": 3,
    "resolution": 16.933367200067735,
    "scale": 64000
   },
   {
    "level": 4,
    "resolution": 8.466683600033868,
    "scale": 32000
   },
   {
    "level": 5,
    "resolution": 4.233341800016934,
    "scale": 16000
   },
   {
    "level": 6,
    "resolution": 2.116670900008467,
    "scale": 8000
   },
   {
    "level": 7,
    "resolution": 1.0583354500042335,
    "scale": 4000
   },
   {
    "level": 8,
    "resolution": 0.5291677250021167,
    "scale": 2000
   },
   {
    "level": 9,
    "resolution": 0.26458386250105836,
    "scale": 1000
   },
   {
    "level": 10,
    "resolution": 0.13229193125052918,
    "scale": 500
   },
   {
    "level": 11,
    "resolution": 0.06614596562526459,
    "scale": 250
   }
  ]
 },
 "initialExtent": {
  "xmin": 350710.3312458453,
  "ymin": 8615877.210603032,
  "xmax": 2041944.8422545074,
  "ymax": 9697961.191854727,
  "spatialReference": {
   "wkid": 3950,
   "latestWkid": 3950
  }
 },
 "fullExtent": {
  "xmin": 1486101.9275290966,
  "ymin": 9139971.688978985,
  "xmax": 1506123.1278274357,
  "ymax": 9162199.78931021,
  "spatialReference": {
   "wkid": 3950,
   "latestWkid": 3950
  }
 },
 "minScale": 512000,
 "maxScale": 250,
 "units": "esriMeters",
 "supportedImageFormatTypes": "PNG32,PNG24,PNG,JPG,DIB,TIFF,EMF,PS,PDF,GIF,SVG,SVGZ,BMP",
 "documentInfo": {
  "Title": "Vue aérienne 2015",
  "Author": "",
  "Comments": "Vue aérienne 2015",
  "Subject": "Vue aérienne 2015",
  "Category": "",
  "AntialiasingMode": "None",
  "TextAntialiasingMode": "Force",
  "Keywords": "vue aérienne,orthophoto,photo,2015"
 },
 "capabilities": "Map,Query,Data",
 "supportedQueryFormats": "JSON, geoJSON",
 "exportTilesAllowed": false,
 "referenceScale": 0,
 "supportsDatumTransformation": true,
 "maxRecordCount": 1000,
 "maxImageHeight": 4096,
 "maxImageWidth": 4096,
 "supportedExtensions": "",
 "serviceItemId": "bce51cc2c5b74d25af93a05b8fa12133"
}
