{
 "currentVersion": 10.91,
 "serviceDescription": "Assemblage des clichés noir et blanc issus des missions 1711-0041 et 1711-0061 de photographie aérienne menées par l'IGN. Les missions 1711-0041 et 1711-0061 ont eu lieu simultanément le 14/04/1955.",
 "mapName": "Couches",
 "description": "",
 "copyrightText": "Communauté urbaine Le Havre Seine Métropole - Photothèque Nationale de l'IGN - Droits réservés",
 "supportsDynamicLayers": true,
 "layers": [
  {
   "id": 0,
   "name": "Photo aérienne - 1955",
   "parentLayerId": -1,
   "defaultVisibility": true,
   "subLayerIds": null,
   "minScale": 0,
   "maxScale": 0,
   "type": "Raster Layer"
  }
 ],
 "tables": [],
 "spatialReference": {
  "wkid": 3950,
  "latestWkid": 3950
 },
 "singleFusedMapCache": true,
 "tileInfo": {
  "rows": 512,
  "cols": 512,
  "dpi": 96,
  "format": "PNG24",
  "compressionQuality": 0,
  "origin": {
   "x": -34356400,
   "y": 50618200
  },
  "spatialReference": {
   "wkid": 3950,
   "latestWkid": 3950
  },
  "lods": [
   {
    "level": 0,
    "resolution": 135.46693760054188,
    "scale": 512000
   },
   {
    "level": 1,
    "resolution": 67.73346880027094,
    "scale": 256000
   },
   {
    "level": 2,
    "resolution": 33.86673440013547,
    "scale": 128000
   },
   {
    "level": 3,
    "resolution": 16.933367200067735,
    "scale": 64000
   },
   {
    "level": 4,
    "resolution": 8.466683600033868,
    "scale": 32000
   },
   {
    "level": 5,
    "resolution": 4.233341800016934,
    "scale": 16000
   },
   {
    "level": 6,
    "resolution": 2.116670900008467,
    "scale": 8000
   },
   {
    "level": 7,
    "resolution": 1.0583354500042335,
    "scale": 4000
   },
   {
    "level": 8,
    "resolution": 0.5291677250021167,
    "scale": 2000
   },
   {
    "level": 9,
    "resolution": 0.26458386250105836,
    "scale": 1000
   },
   {
    "level": 10,
    "resolution": 0.13229193125052918,
    "scale": 500
   },
   {
    "level": 11,
    "resolution": 0.06614596562526459,
    "scale": 250
   }
  ]
 },
 "initialExtent": {
  "xmin": 1486043.5134588138,
  "ymin": 9144168.731026107,
  "xmax": 1505396.3570127503,
  "ymax": 9160831.268973893,
  "spatialReference": {
   "wkid": 3950,
   "latestWkid": 3950
  }
 },
 "fullExtent": {
  "xmin": 1487000,
  "ymin": 9141000,
  "xmax": 1507000,
  "ymax": 9164000,
  "spatialReference": {
   "wkid": 3950,
   "latestWkid": 3950
  }
 },
 "minScale": 512000,
 "maxScale": 250,
 "units": "esriMeters",
 "supportedImageFormatTypes": "PNG32,PNG24,PNG,JPG,DIB,TIFF,EMF,PS,PDF,GIF,SVG,SVGZ,BMP",
 "documentInfo": {
  "Title": "",
  "Author": "",
  "Comments": "Assemblage des clichés noir et blanc issus des missions 1711-0041 et 1711-0061 de photographie aérienne menées par l'IGN. Les missions 1711-0041 et 1711-0061 ont eu lieu simultanément le 14/04/1955.",
  "Subject": "Prise de aérienne 1955",
  "Category": "",
  "AntialiasingMode": "None",
  "TextAntialiasingMode": "Force",
  "Keywords": "prise de vue aérienne,cliché,carte historique,photographie,cliché,archive,carte ancienne,histoire"
 },
 "capabilities": "Map,Query,Data",
 "supportedQueryFormats": "JSON, geoJSON",
 "exportTilesAllowed": false,
 "referenceScale": 0,
 "datumTransformations": [
  {
   "geoTransforms": [
    {
     "wkid": 1764,
     "latestWkid": 1763,
     "transformForward": true,
     "name": "NTF_Paris_To_NTF"
    }
   ]
  },
  {
   "geoTransforms": [
    {
     "wkid": 1764,
     "latestWkid": 1763,
     "transformForward": false,
     "name": "NTF_Paris_To_NTF"
    }
   ]
  }
 ],
 "supportsDatumTransformation": true,
 "maxRecordCount": 1000,
 "maxImageHeight": 4096,
 "maxImageWidth": 4096,
 "supportedExtensions": "",
 "serviceItemId": "6e906575d33845e0b1fbaada327e5284"
}
